BEGIN:VCALENDAR
VERSION:2.0
PRODID:-//Shiva Vishnu Temple of South Florida - ECPv4.6//NONSGML v1.0//EN
CALSCALE:GREGORIAN
METHOD:PUBLISH
X-WR-CALNAME:Shiva Vishnu Temple of South Florida
X-ORIGINAL-URL:https://shivavishnu.org
X-WR-CALDESC:Events for Shiva Vishnu Temple of South Florida
BEGIN:VEVENT
DTSTART;TZID=America/New_York:20260331T093000
DTEND;TZID=America/New_York:20260331T093000
DTSTAMP:20260424T181859
CREATED:20251227T214508Z
LAST-MODIFIED:20260102T122207Z
UID:36908-1774949400-1774949400@shivavishnu.org
SUMMARY:Panguni Uttaram
DESCRIPTION:Thirumanjanam to Lakshmi\nDetails\n
URL:https://shivavishnu.org/event/thirumanjanam-to-lakshmi-162/
END:VEVENT
BEGIN:VEVENT
DTSTART;TZID=America/New_York:20260331T101500
DTEND;TZID=America/New_York:20260331T101500
DTSTAMP:20260424T181859
CREATED:20251227T214509Z
LAST-MODIFIED:20251227T214509Z
UID:36909-1774952100-1774952100@shivavishnu.org
SUMMARY:Abhishekam to Ayyappa
DESCRIPTION:Uttaraphalguni \n
URL:https://shivavishnu.org/event/abhishekam-to-ayyappa-143/
END:VEVENT
BEGIN:VEVENT
DTSTART;TZID=America/New_York:20260331T180000
DTEND;TZID=America/New_York:20260331T180000
DTSTAMP:20260424T181859
CREATED:20251227T214510Z
LAST-MODIFIED:20251227T214510Z
UID:36910-1774980000-1774980000@shivavishnu.org
SUMMARY:Prakarotsavam & Sahasranama Archana
DESCRIPTION:Uttaraphalguni \n
URL:https://shivavishnu.org/event/prakarotsavam-sahasranama-archana-17/
END:VEVENT
END:VCALENDAR