BEGIN:VCALENDAR
VERSION:2.0
PRODID:-//Shiva Vishnu Temple of South Florida - ECPv4.6//NONSGML v1.0//EN
CALSCALE:GREGORIAN
METHOD:PUBLISH
X-WR-CALNAME:Shiva Vishnu Temple of South Florida
X-ORIGINAL-URL:https://shivavishnu.org
X-WR-CALDESC:Events for Shiva Vishnu Temple of South Florida
BEGIN:VEVENT
DTSTART;TZID=America/New_York:20260419T083000
DTEND;TZID=America/New_York:20260419T083000
DTSTAMP:20260424T181952
CREATED:20260402T213147Z
LAST-MODIFIED:20260405T145518Z
UID:37026-1776587400-1776587400@shivavishnu.org
SUMMARY:Sri Suktha Homam
DESCRIPTION:Sri Suktha Homam\nDetails\n
URL:https://shivavishnu.org/event/sri-suktha-homam-13/
END:VEVENT
BEGIN:VEVENT
DTSTART;TZID=America/New_York:20260419T093000
DTEND;TZID=America/New_York:20260419T093000
DTSTAMP:20260424T181952
CREATED:20260402T213148Z
LAST-MODIFIED:20260402T213148Z
UID:37027-1776591000-1776591000@shivavishnu.org
SUMMARY:Abhishekam to Subramania
DESCRIPTION:Krittika \n
URL:https://shivavishnu.org/event/abhishekam-to-subramania-16/
END:VEVENT
BEGIN:VEVENT
DTSTART;TZID=America/New_York:20260419T110000
DTEND;TZID=America/New_York:20260419T110000
DTSTAMP:20260424T181952
CREATED:20260402T213150Z
LAST-MODIFIED:20260402T213150Z
UID:37028-1776596400-1776596400@shivavishnu.org
SUMMARY:Lalitha Sahasranama Parayanam
DESCRIPTION:Krittika \n
URL:https://shivavishnu.org/event/lalitha-sahasranama-parayanam-464/
END:VEVENT
END:VCALENDAR