BEGIN:VCALENDAR
VERSION:2.0
PRODID:-//Shiva Vishnu Temple of South Florida - ECPv4.6//NONSGML v1.0//EN
CALSCALE:GREGORIAN
METHOD:PUBLISH
X-WR-CALNAME:Shiva Vishnu Temple of South Florida
X-ORIGINAL-URL:https://shivavishnu.org
X-WR-CALDESC:Events for Shiva Vishnu Temple of South Florida
BEGIN:VEVENT
DTSTART;TZID=America/New_York:20260524T100000
DTEND;TZID=America/New_York:20260524T100000
DTSTAMP:20260424T193126
CREATED:20260403T224119Z
LAST-MODIFIED:20260403T224119Z
UID:37091-1779616800-1779616800@shivavishnu.org
SUMMARY:Thirumanjanam to Andal
DESCRIPTION:Poorvaphalguni \n
URL:https://shivavishnu.org/event/thirumanjanam-to-andal-148/
END:VEVENT
BEGIN:VEVENT
DTSTART;TZID=America/New_York:20260524T110000
DTEND;TZID=America/New_York:20260524T110000
DTSTAMP:20260424T193126
CREATED:20260403T224121Z
LAST-MODIFIED:20260403T224121Z
UID:37092-1779620400-1779620400@shivavishnu.org
SUMMARY:Lalitha Sahasranama Parayanam
DESCRIPTION:Poorvaphalguni \n
URL:https://shivavishnu.org/event/lalitha-sahasranama-parayanam-468/
END:VEVENT
END:VCALENDAR