BEGIN:VCALENDAR
VERSION:2.0
PRODID:-//Shiva Vishnu Temple of South Florida - ECPv4.6//NONSGML v1.0//EN
CALSCALE:GREGORIAN
METHOD:PUBLISH
X-WR-CALNAME:Shiva Vishnu Temple of South Florida
X-ORIGINAL-URL:https://shivavishnu.org
X-WR-CALDESC:Events for Shiva Vishnu Temple of South Florida
BEGIN:VEVENT
DTSTART;TZID=America/New_York:20260525T093000
DTEND;TZID=America/New_York:20260525T093000
DTSTAMP:20260424T192347
CREATED:20260403T224123Z
LAST-MODIFIED:20260403T224123Z
UID:37093-1779701400-1779701400@shivavishnu.org
SUMMARY:Thirumanjanam to Lakshmi
DESCRIPTION:Uttaraphalguni \n
URL:https://shivavishnu.org/event/thirumanjanam-to-lakshmi-165/
END:VEVENT
BEGIN:VEVENT
DTSTART;TZID=America/New_York:20260525T101500
DTEND;TZID=America/New_York:20260525T101500
DTSTAMP:20260424T192347
CREATED:20260403T224124Z
LAST-MODIFIED:20260403T224124Z
UID:37094-1779704100-1779704100@shivavishnu.org
SUMMARY:Abhishekam to Ayyappa
DESCRIPTION:Uttaraphalguni \n
URL:https://shivavishnu.org/event/abhishekam-to-ayyappa-146/
END:VEVENT
BEGIN:VEVENT
DTSTART;TZID=America/New_York:20260525T183000
DTEND;TZID=America/New_York:20260525T183000
DTSTAMP:20260424T192347
CREATED:20260403T224125Z
LAST-MODIFIED:20260403T224125Z
UID:37095-1779733800-1779733800@shivavishnu.org
SUMMARY:Abhishekam to Shiva
DESCRIPTION:Uttaraphalguni \n
URL:https://shivavishnu.org/event/abhishekam-to-shiva-809/
END:VEVENT
END:VCALENDAR