BEGIN:VCALENDAR
VERSION:2.0
PRODID:-//Shiva Vishnu Temple of South Florida - ECPv4.6//NONSGML v1.0//EN
CALSCALE:GREGORIAN
METHOD:PUBLISH
X-WR-CALNAME:Shiva Vishnu Temple of South Florida
X-ORIGINAL-URL:https://shivavishnu.org
X-WR-CALDESC:Events for Shiva Vishnu Temple of South Florida
BEGIN:VEVENT
DTSTART;TZID=America/New_York:20260602T100000
DTEND;TZID=America/New_York:20260602T100000
DTSTAMP:20260424T202440
CREATED:20260403T225450Z
LAST-MODIFIED:20260403T225450Z
UID:37117-1780394400-1780394400@shivavishnu.org
SUMMARY:Abhishekam to Saraswathi
DESCRIPTION:Moola \n
URL:https://shivavishnu.org/event/abhishekam-to-saraswathi-148/
END:VEVENT
BEGIN:VEVENT
DTSTART;TZID=America/New_York:20260602T100000
DTEND;TZID=America/New_York:20260602T100000
DTSTAMP:20260424T202440
CREATED:20260403T225451Z
LAST-MODIFIED:20260403T225451Z
UID:37118-1780394400-1780394400@shivavishnu.org
SUMMARY:Thirumanjanam to Anjaneya
DESCRIPTION:Moola \n
URL:https://shivavishnu.org/event/thirumanjanam-to-anjaneya-137/
END:VEVENT
BEGIN:VEVENT
DTSTART;TZID=America/New_York:20260602T190000
DTEND;TZID=America/New_York:20260602T190000
DTSTAMP:20260424T202440
CREATED:20260403T225452Z
LAST-MODIFIED:20260403T225452Z
UID:37119-1780426800-1780426800@shivavishnu.org
SUMMARY:Hanuman Chalisa
DESCRIPTION:Moola \n
URL:https://shivavishnu.org/event/hanuman-chalisa-389/
END:VEVENT
END:VCALENDAR