BEGIN:VCALENDAR
VERSION:2.0
PRODID:-//Shiva Vishnu Temple of South Florida - ECPv4.6//NONSGML v1.0//EN
CALSCALE:GREGORIAN
METHOD:PUBLISH
X-WR-CALNAME:Shiva Vishnu Temple of South Florida
X-ORIGINAL-URL:https://shivavishnu.org
X-WR-CALDESC:Events for Shiva Vishnu Temple of South Florida
BEGIN:VEVENT
DTSTART;TZID=America/New_York:20260605T100000
DTEND;TZID=America/New_York:20260605T100000
DTSTAMP:20260424T202239
CREATED:20260403T225457Z
LAST-MODIFIED:20260403T225457Z
UID:37122-1780653600-1780653600@shivavishnu.org
SUMMARY:Special pooja to Venkateshwara
DESCRIPTION:Sravana \n
URL:https://shivavishnu.org/event/special-pooja-to-venkateshwara-43/
END:VEVENT
BEGIN:VEVENT
DTSTART;TZID=America/New_York:20260605T190000
DTEND;TZID=America/New_York:20260605T190000
DTSTAMP:20260424T202239
CREATED:20260403T225458Z
LAST-MODIFIED:20260403T225458Z
UID:37123-1780686000-1780686000@shivavishnu.org
SUMMARY:Special pooja to Lakshmi
DESCRIPTION:Sravana \n
URL:https://shivavishnu.org/event/special-pooja-to-lakshmi-181/
END:VEVENT
END:VCALENDAR