BEGIN:VCALENDAR
VERSION:2.0
PRODID:-//Shiva Vishnu Temple of South Florida - ECPv4.6//NONSGML v1.0//EN
CALSCALE:GREGORIAN
METHOD:PUBLISH
X-WR-CALNAME:Shiva Vishnu Temple of South Florida
X-ORIGINAL-URL:https://shivavishnu.org
X-WR-CALDESC:Events for Shiva Vishnu Temple of South Florida
BEGIN:VEVENT
DTSTART;TZID=America/New_York:20260620T093000
DTEND;TZID=America/New_York:20260620T093000
DTSTAMP:20260424T202255
CREATED:20260403T225533Z
LAST-MODIFIED:20260403T225533Z
UID:37142-1781947800-1781947800@shivavishnu.org
SUMMARY:Thirumanjanam to Venkateshwara followed by Vishnu Sahasranama Parayanam
DESCRIPTION:Poorvaphalguni \n
URL:https://shivavishnu.org/event/thirumanjanam-to-venkateshwara-followed-by-vishnu-sahasranama-parayanam-49/
END:VEVENT
BEGIN:VEVENT
DTSTART;TZID=America/New_York:20260620T100000
DTEND;TZID=America/New_York:20260620T100000
DTSTAMP:20260424T202255
CREATED:20260403T225534Z
LAST-MODIFIED:20260403T225534Z
UID:37143-1781949600-1781949600@shivavishnu.org
SUMMARY:Thirumanjanam to Andal
DESCRIPTION:Poorvaphalguni \n
URL:https://shivavishnu.org/event/thirumanjanam-to-andal-149/
END:VEVENT
END:VCALENDAR