BEGIN:VCALENDAR
VERSION:2.0
PRODID:-//Shiva Vishnu Temple of South Florida - ECPv4.6//NONSGML v1.0//EN
CALSCALE:GREGORIAN
METHOD:PUBLISH
X-WR-CALNAME:Shiva Vishnu Temple of South Florida
X-ORIGINAL-URL:https://shivavishnu.org
X-WR-CALDESC:Events for Shiva Vishnu Temple of South Florida
BEGIN:VEVENT
DTSTART;TZID=America/New_York:20260621T083000
DTEND;TZID=America/New_York:20260621T083000
DTSTAMP:20260424T202323
CREATED:20260403T225536Z
LAST-MODIFIED:20260403T225818Z
UID:37144-1782030600-1782030600@shivavishnu.org
SUMMARY:Navagraha Homam
DESCRIPTION:Navagraha Homam\n
URL:https://shivavishnu.org/event/navagraha-homam-14/
END:VEVENT
BEGIN:VEVENT
DTSTART;TZID=America/New_York:20260621T100000
DTEND;TZID=America/New_York:20260621T100000
DTSTAMP:20260424T202323
CREATED:20260403T225538Z
LAST-MODIFIED:20260403T225538Z
UID:37145-1782036000-1782036000@shivavishnu.org
SUMMARY:Thirumanjanam to Lakshmi
DESCRIPTION:Uttaraphalguni \n
URL:https://shivavishnu.org/event/thirumanjanam-to-lakshmi-166/
END:VEVENT
BEGIN:VEVENT
DTSTART;TZID=America/New_York:20260621T100000
DTEND;TZID=America/New_York:20260621T100000
DTSTAMP:20260424T202323
CREATED:20260403T225539Z
LAST-MODIFIED:20260403T225539Z
UID:37146-1782036000-1782036000@shivavishnu.org
SUMMARY:/
DESCRIPTION:Uttaraphalguni \n
URL:https://shivavishnu.org/event/37146/
END:VEVENT
END:VCALENDAR