BEGIN:VCALENDAR
VERSION:2.0
PRODID:-//Shiva Vishnu Temple of South Florida - ECPv4.6//NONSGML v1.0//EN
CALSCALE:GREGORIAN
METHOD:PUBLISH
X-WR-CALNAME:Shiva Vishnu Temple of South Florida
X-ORIGINAL-URL:https://shivavishnu.org
X-WR-CALDESC:Events for Shiva Vishnu Temple of South Florida
BEGIN:VEVENT
DTSTART;TZID=America/New_York:20260626T183000
DTEND;TZID=America/New_York:20260626T183000
DTSTAMP:20260424T202314
CREATED:20260403T225547Z
LAST-MODIFIED:20260403T225547Z
UID:37151-1782498600-1782498600@shivavishnu.org
SUMMARY:Abhishekam to Shiva
DESCRIPTION:Visakha/Pradosham \n
URL:https://shivavishnu.org/event/abhishekam-to-shiva-816/
END:VEVENT
BEGIN:VEVENT
DTSTART;TZID=America/New_York:20260626T190000
DTEND;TZID=America/New_York:20260626T190000
DTSTAMP:20260424T202314
CREATED:20260403T225550Z
LAST-MODIFIED:20260403T225550Z
UID:37152-1782500400-1782500400@shivavishnu.org
SUMMARY:Special pooja to Lakshmi
DESCRIPTION:Visakha \n
URL:https://shivavishnu.org/event/special-pooja-to-lakshmi-184/
END:VEVENT
END:VCALENDAR